BEGIN:VCALENDAR
VERSION:2.0
PRODID:-//Plone.org//NONSGML plone.app.event//EN
X-WR-TIMEZONE:US/Pacific
BEGIN:VEVENT
SUMMARY:Basic Whitewater Packrafting Equivalency Test - Snoqualmie River (
 Middle Fork - Lower Middle): Tanner to North Bend
DTSTART;VALUE=DATE:20260419
DTEND;VALUE=DATE:20260420
DTSTAMP;VALUE=DATE-TIME:20260419T155620Z
UID:d40e592b112a433db51e11a7155399d7
CATEGORIES:Packrafting
DESCRIPTION:A one day outing giving participants to demonstrate skills equ
 ivalent to the Basic Whitewater Packrafting Course
LOCATION:Snoqualmie River (Middle Fork - Lower Middle): Tanner to North Be
 nd
URL:https://www.mountaineers.org/locations-lodges/seattle-branch/committee
 s/seattle-packrafting-committee/course-templates/basic-whitewater-packraft
 ing-equivalency-seattle/activities/basic-whitewater-packrafting-equivalenc
 y-test-snoqualmie-river-middle-fork-lower-middle-tanner-to-north-bend
END:VEVENT
END:VCALENDAR
