BEGIN:VCALENDAR
VERSION:2.0
PRODID:-//Plone.org//NONSGML plone.app.event//EN
X-WR-TIMEZONE:US/Pacific
BEGIN:VEVENT
SUMMARY:CalTopo Trip Planning: Start to Finish | Free Zoom Webinar From Ca
 lTopo and the Mountaineers - Online Classroom
DTSTART;VALUE=DATE:20200805
DTEND;VALUE=DATE:20200806
DTSTAMP;VALUE=DATE-TIME:20260419T175019Z
UID:74d7cddcb7cb4bf884d6872bdcede24e
CATEGORIES:Navigation
DESCRIPTION:Imagine having the skill to plan a trip anywhere\, easily crea
 te custom physical and digital online maps using the online CalTopo servic
 e and their new cell phone app. Join the CalTopo training team\, in partne
 rship with The Mountaineers Seattle Navigation Committee\, for a free one 
 and a half-hour webinar. This webinar is open to the public. Non-Mountaine
 ers members can register by creating a free guest adult account (see link 
 below) and RSVPing on this course page.
LOCATION:Online Classroom
URL:https://www.mountaineers.org/locations-lodges/seattle-branch/committee
 s/seattle-navigation-committee/seminars-clinics/caltopo-trip-planning-star
 t-to-finish-free-zoom-webinar-from-caltopo-and-the-mountaineers-online-cla
 ssroom
END:VEVENT
END:VCALENDAR
