BEGIN:VCALENDAR
VERSION:2.0
PRODID:-//Plone.org//NONSGML plone.app.event//EN
X-WR-TIMEZONE:US/Pacific
BEGIN:VEVENT
SUMMARY:Bushwhacking Navigation - Heybrook Ridge From Lewis Creek Road
DTSTART;VALUE=DATE:20260607
DTEND;VALUE=DATE:20260608
DTSTAMP;VALUE=DATE-TIME:20260420T221116Z
UID:dac4e65d738340c6a8c382a03ff54dfc
CATEGORIES:Navigation
DESCRIPTION:Sharpen your off-trail (bushwhacking) skills along this 5 mile
  course. Practice accurately navigating through dense vegetation and other
  terrain obstacles.
LOCATION:Heybrook Ridge From Lewis Creek Road
URL:https://www.mountaineers.org/locations-lodges/seattle-branch/committee
 s/seattle-navigation-committee/seminars-clinics/bushwhacking-navigation-he
 ybrook-ridge-from-lewis-creek-road
END:VEVENT
END:VCALENDAR
