BEGIN:VCALENDAR
VERSION:2.0
PRODID:-//Plone.org//NONSGML plone.app.event//EN
X-WR-TIMEZONE:US/Pacific
BEGIN:VEVENT
SUMMARY:Seattle Equivalency Assessment - Center for Urban Horticulture
DTSTART;VALUE=DATE:20260510
DTEND;VALUE=DATE:20260511
DTSTAMP;VALUE=DATE-TIME:20260421T164426Z
UID:16f276aee8814098a46343fc84906af9
CATEGORIES:Navigation
DESCRIPTION:An opportunity for Seattle Wilderness Navigation Equivalency c
 andidates to demonstrate their skill and expertise using the five tools of
  navigation: map\, compass\, altimeter\, GPS\, SATCOM.
LOCATION:Center for Urban Horticulture
URL:https://www.mountaineers.org/locations-lodges/seattle-branch/committee
 s/seattle-navigation-committee/course-templates/basic-navigation-equivalen
 cy-seattle/activities/seattle-equivalency-assessment-center-for-urban-hort
 iculture
END:VEVENT
END:VCALENDAR
