BEGIN:VCALENDAR
VERSION:2.0
PRODID:-//Plone.org//NONSGML plone.app.event//EN
X-WR-TIMEZONE:US/Pacific
BEGIN:VEVENT
SUMMARY:New Hike Leader Seminar - Mountaineers Seattle Program Center
DTSTART;VALUE=DATE:20170717
DTEND;VALUE=DATE:20170718
DTSTAMP;VALUE=DATE-TIME:20260420T234403Z
UID:be60b576e61f4c86820a92fffa186834
CATEGORIES:Outdoor Leadership,Day Hiking
DESCRIPTION:This 2.5 hour evening seminar provides experienced hikers info
 rmation to help them become an effective hike leader for the Mountaineers.
  This seminar is a pre-requisite (along with a mentor hike and committee a
 pproval) to becoming an official hike leader for the club\, and prospectiv
 e leaders from any branch can get credit for this seminar toward their lea
 der certification.
LOCATION:Mountaineers Seattle Program Center
URL:https://www.mountaineers.org/locations-lodges/seattle-branch/committee
 s/seattle-hiking-backpacking/seattle-hiking-committee/seminars-clinics/new
 -hike-leader-seminar-mountaineers-seattle-program-center-2
END:VEVENT
END:VCALENDAR
