BEGIN:VCALENDAR
VERSION:2.0
PRODID:-//Plone.org//NONSGML plone.app.event//EN
X-WR-TIMEZONE:US/Pacific
BEGIN:VEVENT
SUMMARY:CHS 2 Hike - Wonderland Trail: Carbon River to Mystic Lake
DTSTART;VALUE=DATE:20180728
DTEND;VALUE=DATE:20180729
DTSTAMP;VALUE=DATE-TIME:20260422T095955Z
UID:6e2fd0a95a134071a508b494da409c65
CATEGORIES:Day Hiking
DESCRIPTION:Hike an out-and-back on the iconic Wonderland Trail from Carbo
 n River to Mystic Lake! CHS hike led at a CHS 2 pace (2.0-3.0 mph).
LOCATION:Wonderland Trail: Carbon River to Mystic Lake
URL:https://www.mountaineers.org/locations-lodges/seattle-branch/committee
 s/seattle-hiking-backpacking/seattle-hiking-committee/course-templates/con
 ditioning-hiking-series/activities/chs-2-hike-wonderland-trail-carbon-rive
 r-to-mystic-lake-1
END:VEVENT
END:VCALENDAR
