BEGIN:VCALENDAR
VERSION:2.0
PRODID:-//Plone.org//NONSGML plone.app.event//EN
X-WR-TIMEZONE:US/Pacific
BEGIN:VEVENT
SUMMARY:CHS 2 Hike - Rattlesnake Mountain Grand Traverse
DTSTART;VALUE=DATE:20260530
DTEND;VALUE=DATE:20260531
DTSTAMP;VALUE=DATE-TIME:20260420T215416Z
UID:a1eaca99804148fb88fde1d5af051ffe
CATEGORIES:Day Hiking
DESCRIPTION:CHS hike led at a CHS 2 pace (2.0-3.0 mph)\, Go Getter Hike
LOCATION:Rattlesnake Mountain Grand Traverse
URL:https://www.mountaineers.org/locations-lodges/seattle-branch/committee
 s/seattle-hiking-backpacking/seattle-hiking-committee/course-templates/con
 ditioning-hiking-series/activities/chs-2-hike-rattlesnake-mountain-grand-t
 raverse-10
END:VEVENT
END:VCALENDAR
