BEGIN:VCALENDAR
VERSION:2.0
PRODID:-//Plone.org//NONSGML plone.app.event//EN
X-WR-TIMEZONE:US/Pacific
BEGIN:VEVENT
SUMMARY:CHS 2 Hike - Poo Poo Point via High School Trail
DTSTART;VALUE=DATE:20260425
DTEND;VALUE=DATE:20260426
DTSTAMP;VALUE=DATE-TIME:20260422T163828Z
UID:92439c93999d4bd484b1531f848b6698
CATEGORIES:Day Hiking
DESCRIPTION:CHS hike led at a CHS 2 pace (2.0-3.0 mph)
LOCATION:Poo Poo Point via High School Trail
URL:https://www.mountaineers.org/locations-lodges/seattle-branch/committee
 s/seattle-hiking-backpacking/seattle-hiking-committee/course-templates/con
 ditioning-hiking-series/activities/chs-2-hike-poo-poo-point-via-high-schoo
 l-trail-10
END:VEVENT
END:VCALENDAR
