BEGIN:VCALENDAR
VERSION:2.0
PRODID:-//Plone.org//NONSGML plone.app.event//EN
X-WR-TIMEZONE:US/Pacific
BEGIN:VEVENT
SUMMARY:CHS 2 Hike - Oyster Dome & North Butte
DTSTART;VALUE=DATE:20260509
DTEND;VALUE=DATE:20260510
DTSTAMP;VALUE=DATE-TIME:20260421T164555Z
UID:c288f67b19534448a18566d9c01b6d5c
CATEGORIES:Day Hiking
DESCRIPTION:CHS hike led at a CHS 2 pace (2.0-3.0 mph)
LOCATION:Oyster Dome & North Butte
URL:https://www.mountaineers.org/locations-lodges/seattle-branch/committee
 s/seattle-hiking-backpacking/seattle-hiking-committee/course-templates/con
 ditioning-hiking-series/activities/chs-2-hike-oyster-dome-north-butte-4
END:VEVENT
END:VCALENDAR
