BEGIN:VCALENDAR
VERSION:2.0
PRODID:-//Plone.org//NONSGML plone.app.event//EN
X-WR-TIMEZONE:US/Pacific
BEGIN:VEVENT
SUMMARY:CHS 2 Hike - Granite Lakes via Granite Creek
DTSTART;VALUE=DATE:20250509
DTEND;VALUE=DATE:20250510
DTSTAMP;VALUE=DATE-TIME:20260421T014932Z
UID:40e94119b8ca43929341752cb0c2d865
CATEGORIES:Day Hiking
DESCRIPTION:This is an out and back hike and involves a continuous 4 mile 
 climb up to Granite Lakes along the creek.  The elevation gain will be ove
 r 2400'.  Total mileage is 8 miles.  It will be led at a CHS 2 pace (2.0-3
 .0 mph).  We will be accompanied by a guide dog in training (leashed and w
 ell behaved)!
LOCATION:Granite Lakes via Granite Creek
URL:https://www.mountaineers.org/locations-lodges/seattle-branch/committee
 s/seattle-hiking-backpacking/seattle-hiking-committee/course-templates/con
 ditioning-hiking-series/activities/chs-2-hike-granite-lakes-via-granite-cr
 eek-5
END:VEVENT
END:VCALENDAR
