BEGIN:VCALENDAR
VERSION:2.0
PRODID:-//Plone.org//NONSGML plone.app.event//EN
X-WR-TIMEZONE:US/Pacific
BEGIN:VEVENT
SUMMARY:CHS 1 Hike - Squak Mountain: Bullitt Fireplace Access
DTSTART;VALUE=DATE:20220505
DTEND;VALUE=DATE:20220506
DTSTAMP;VALUE=DATE-TIME:20260422T033656Z
UID:1a3d028f9e2d428bb3851b6a00d42720
CATEGORIES:Day Hiking
DESCRIPTION:CHS hike led at a CHS 1 pace (1.5-2.0 mph). This semi-loop rou
 te takes us to Squak Mountain's West and Central Peaks\, passes through th
 e site of a former cabin owned by the Bullitt family and includes a side t
 rip to check out Debbie's View.
LOCATION:Squak Mountain: Bullitt Fireplace Access
URL:https://www.mountaineers.org/locations-lodges/seattle-branch/committee
 s/seattle-hiking-backpacking/seattle-hiking-committee/course-templates/con
 ditioning-hiking-series/activities/chs-1-hike-squak-mountain-bullitt-firep
 lace-access-2
END:VEVENT
END:VCALENDAR
