BEGIN:VCALENDAR
VERSION:2.0
PRODID:-//Plone.org//NONSGML plone.app.event//EN
X-WR-TIMEZONE:US/Pacific
BEGIN:VEVENT
SUMMARY:CHS 1 Hike - Rainbow & Island Lakes
DTSTART;VALUE=DATE:20260712
DTEND;VALUE=DATE:20260713
DTSTAMP;VALUE=DATE-TIME:20260424T114232Z
UID:78fbff7c0af84cd09f2e34a521f698d9
CATEGORIES:Day Hiking
DESCRIPTION:Mason\, Island\, & Rainbow Lakes via Ira Spring Trail. CHS hik
 e led at a CHS 1 pace (1.5-2.0 mph)
LOCATION:Rainbow & Island Lakes
URL:https://www.mountaineers.org/locations-lodges/seattle-branch/committee
 s/seattle-hiking-backpacking/seattle-hiking-committee/course-templates/con
 ditioning-hiking-series/activities/chs-1-hike-rainbow-island-lakes-5
END:VEVENT
END:VCALENDAR
