BEGIN:VCALENDAR
VERSION:2.0
PRODID:-//Plone.org//NONSGML plone.app.event//EN
X-WR-TIMEZONE:US/Pacific
BEGIN:VEVENT
SUMMARY:CHS 1 Hike - Pacific Crest Trail: Snoqualmie Pass to Windy Pass
DTSTART;VALUE=DATE:20260620
DTEND;VALUE=DATE:20260621
DTSTAMP;VALUE=DATE-TIME:20260420T221400Z
UID:9d4817e9e2fb477a8bf996c550ef3129
CATEGORIES:Day Hiking
DESCRIPTION:CHS hike led at a CHS 1 pace (1.5-2.0 mph). A hike past Beaver
  Lake and Lodge Lake\, cross the Palouse to Cascades State Park Trail (for
 merly Iron Horse Trail and aka John Wayne Trail)\, and through Olallie Mea
 dow to reach Windy Pass.
LOCATION:Pacific Crest Trail: Snoqualmie Pass to Windy Pass
URL:https://www.mountaineers.org/locations-lodges/seattle-branch/committee
 s/seattle-hiking-backpacking/seattle-hiking-committee/course-templates/con
 ditioning-hiking-series/activities/chs-1-hike-pacific-crest-trail-snoqualm
 ie-pass-to-windy-pass-2
END:VEVENT
END:VCALENDAR
