BEGIN:VCALENDAR
VERSION:2.0
PRODID:-//Plone.org//NONSGML plone.app.event//EN
X-WR-TIMEZONE:US/Pacific
BEGIN:VEVENT
SUMMARY:CHS 1 Hike - Lower Lena Lake
DTSTART;VALUE=DATE:20260510
DTEND;VALUE=DATE:20260511
DTSTAMP;VALUE=DATE-TIME:20260420T215416Z
UID:c6cd0c9cc91d4c08bf0ec46c2699c97f
CATEGORIES:Day Hiking
DESCRIPTION:CHS hike led at a CHS 1 pace (1.5-2.0 mph)\nThis is a steady\,
  moderate climb through lush forest leading to a beautiful alpine lake. Th
 e trail is well-maintained with gradual elevation gain\, making it a great
  option for both newer hikers and those looking for a relaxed but rewardin
 g outing.
LOCATION:Lower Lena Lake
URL:https://www.mountaineers.org/locations-lodges/seattle-branch/committee
 s/seattle-hiking-backpacking/seattle-hiking-committee/course-templates/con
 ditioning-hiking-series/activities/chs-1-hike-lower-lena-lake-1
END:VEVENT
END:VCALENDAR
