BEGIN:VCALENDAR
VERSION:2.0
PRODID:-//Plone.org//NONSGML plone.app.event//EN
X-WR-TIMEZONE:US/Pacific
BEGIN:VEVENT
SUMMARY:CHS 1 Hike - Lily & Lizard Lakes
DTSTART;VALUE=DATE:20260622
DTEND;VALUE=DATE:20260623
DTSTAMP;VALUE=DATE-TIME:20260422T163828Z
UID:c95d5ae55b8b4c69bfea37bac1df790c
CATEGORIES:Day Hiking
DESCRIPTION:CHS hike led at a CHS 1 pace (1.5-2.0 mph)
LOCATION:Lily & Lizard Lakes
URL:https://www.mountaineers.org/locations-lodges/seattle-branch/committee
 s/seattle-hiking-backpacking/seattle-hiking-committee/course-templates/con
 ditioning-hiking-series/activities/chs-1-hike-lily-lizard-lakes-10
END:VEVENT
END:VCALENDAR
