BEGIN:VCALENDAR
VERSION:2.0
PRODID:-//Plone.org//NONSGML plone.app.event//EN
X-WR-TIMEZONE:US/Pacific
BEGIN:VEVENT
SUMMARY:CHS 1 Hike - Licorice Fern Trail & Far Country Lookout & Falls
DTSTART;VALUE=DATE:20260403
DTEND;VALUE=DATE:20260404
DTSTAMP;VALUE=DATE-TIME:20260424T131632Z
UID:12407f27e7df43e082167cd192363b3a
CATEGORIES:Day Hiking
DESCRIPTION:Explore a lesser used trailhead to Cougar Mountain that indeed
  has a lot of licorice ferns. CHS hike led at a CHS 1 pace (1.5-2.0 mph)
LOCATION:Licorice Fern Trail & Far Country Lookout & Falls
URL:https://www.mountaineers.org/locations-lodges/seattle-branch/committee
 s/seattle-hiking-backpacking/seattle-hiking-committee/course-templates/con
 ditioning-hiking-series/activities/chs-1-hike-licorice-fern-trail-far-coun
 try-lookout-falls-1
END:VEVENT
END:VCALENDAR
