BEGIN:VCALENDAR
VERSION:2.0
PRODID:-//Plone.org//NONSGML plone.app.event//EN
X-WR-TIMEZONE:US/Pacific
BEGIN:VEVENT
SUMMARY:CHS 1 Hike - Lake Whatcom Park: Chanterelle Trail
DTSTART;VALUE=DATE:20190324
DTEND;VALUE=DATE:20190325
DTSTAMP;VALUE=DATE-TIME:20260419T063216Z
UID:dc350972d4d54a70b14d78ecab8e9a1a
CATEGORIES:Day Hiking
DESCRIPTION:At 2.4 miles\, the trail offers long switchbacks uphill climb 
 100 feet easily to a remarkable view of Lake Whatcom\, Puget Sound\, and t
 he San Juan Islands. \n\nCHS pacing hike led at a CHS 1 pace (1.5-2.0 mph)
 .
LOCATION:Lake Whatcom Park: Chanterelle Trail
URL:https://www.mountaineers.org/locations-lodges/seattle-branch/committee
 s/seattle-hiking-backpacking/seattle-hiking-committee/course-templates/con
 ditioning-hiking-series/activities/chs-1-hike-lake-whatcom-park-chanterell
 e-trail
END:VEVENT
END:VCALENDAR
