BEGIN:VCALENDAR
VERSION:2.0
PRODID:-//Plone.org//NONSGML plone.app.event//EN
X-WR-TIMEZONE:US/Pacific
BEGIN:VEVENT
SUMMARY:CHS 1 Hike - Greenwater & Echo Lakes
DTSTART;VALUE=DATE:20260822
DTEND;VALUE=DATE:20260823
DTSTAMP;VALUE=DATE-TIME:20260420T215416Z
UID:2e1693456e444912b02fe5a7a44de371
CATEGORIES:Day Hiking
DESCRIPTION:CHS hike led at a CHS 1 pace (1.5 - 2.0 mph) This is a long-di
 stance forest hike following the Greenwater River through old-growth fores
 t to a series of lakes\, ending at Echo Lake.
LOCATION:Greenwater & Echo Lakes
URL:https://www.mountaineers.org/locations-lodges/seattle-branch/committee
 s/seattle-hiking-backpacking/seattle-hiking-committee/course-templates/con
 ditioning-hiking-series/activities/chs-1-hike-greenwater-echo-lakes-1
END:VEVENT
END:VCALENDAR
