BEGIN:VCALENDAR
VERSION:2.0
PRODID:-//Plone.org//NONSGML plone.app.event//EN
X-WR-TIMEZONE:US/Pacific
BEGIN:VEVENT
SUMMARY:CHS 1 Hike - Granite Lakes
DTSTART;VALUE=DATE:20260621
DTEND;VALUE=DATE:20260622
DTSTAMP;VALUE=DATE-TIME:20260420T215411Z
UID:88e10ae1df9c441c916b5dd2776d0cfc
CATEGORIES:Day Hiking
DESCRIPTION:CHS hike led at a CHS 1 pace (1.5-2.0 mph)\n\nThis is a longer
 \, steady climb through forested terrain leading to beautiful alpine lakes
 . The trail follows a valley with gradual but consistent elevation gain\, 
 making it more of an endurance hike.
LOCATION:Granite Lakes
URL:https://www.mountaineers.org/locations-lodges/seattle-branch/committee
 s/seattle-hiking-backpacking/seattle-hiking-committee/course-templates/con
 ditioning-hiking-series/activities/chs-1-hike-granite-lakes
END:VEVENT
END:VCALENDAR
