BEGIN:VCALENDAR
VERSION:2.0
PRODID:-//Plone.org//NONSGML plone.app.event//EN
X-WR-TIMEZONE:US/Pacific
BEGIN:VEVENT
SUMMARY:CHS 1 Hike - Dewey Lake
DTSTART;VALUE=DATE:20260725
DTEND;VALUE=DATE:20260726
DTSTAMP;VALUE=DATE-TIME:20260420T215411Z
UID:d8efced916154fbe868517bd757d168d
CATEGORIES:Day Hiking
DESCRIPTION:CHS hike led at a CHS 1 pace (1.5-2.0 mph)\nLake Bagging: Tips
 oo\, Dewey & Sheep Lakes. This is a custom route links together three alpi
 ne lakes in one outing\, combining sections of the Pacific Crest Trail wit
 h local connector trails.
LOCATION:Dewey Lake
URL:https://www.mountaineers.org/locations-lodges/seattle-branch/committee
 s/seattle-hiking-backpacking/seattle-hiking-committee/course-templates/con
 ditioning-hiking-series/activities/chs-1-hike-dewey-lake
END:VEVENT
END:VCALENDAR
