BEGIN:VCALENDAR
VERSION:2.0
PRODID:-//Plone.org//NONSGML plone.app.event//EN
X-WR-TIMEZONE:US/Pacific
BEGIN:VEVENT
SUMMARY:CHS 1 Hike - Boulder River
DTSTART;VALUE=DATE:20260513
DTEND;VALUE=DATE:20260514
DTSTAMP;VALUE=DATE-TIME:20260425T032441Z
UID:b79d6e2079c24cb6b860ead9de325624
CATEGORIES:Day Hiking
DESCRIPTION:CHS hike led at a CHS 1 pace (1.5-2.0 mph). Let's hike through
  an old growth forest alongside the rushing blue green waters of Boulder R
 iver. This rolling out-and-back route will be bookended with great views o
 f many stunning waterfalls that tumble down the steep walls of the valley 
 into the river below.
LOCATION:Boulder River
URL:https://www.mountaineers.org/locations-lodges/seattle-branch/committee
 s/seattle-hiking-backpacking/seattle-hiking-committee/course-templates/con
 ditioning-hiking-series/activities/chs-1-hike-boulder-river-1
END:VEVENT
END:VCALENDAR
