BEGIN:VCALENDAR
VERSION:2.0
PRODID:-//Plone.org//NONSGML plone.app.event//EN
X-WR-TIMEZONE:US/Pacific
BEGIN:VEVENT
SUMMARY:Basic Backpacking Field Trip - Dosewallips River/Abandoned Nationa
 l Park Road
DTSTART;VALUE=DATE:20260605
DTEND;VALUE=DATE:20260606
DTSTAMP;VALUE=DATE-TIME:20260420T221117Z
UID:d4140de1aae6447bb2bd12c4766333bc
CATEGORIES:Backpacking
DESCRIPTION:Overnight field trip for the Basic Backpacking Course.  This i
 s the last scheduled activity for the course.
LOCATION:Dosewallips River/Abandoned National Park Road
URL:https://www.mountaineers.org/locations-lodges/seattle-branch/committee
 s/seattle-hiking-backpacking/seattle-backpacking-committee/course-template
 s/basic-backpacking-seattle/activities/basic-backpacking-field-trip-dosewa
 llips-river-abandoned-national-park-road-2
END:VEVENT
END:VCALENDAR
