BEGIN:VCALENDAR
VERSION:2.0
PRODID:-//Plone.org//NONSGML plone.app.event//EN
X-WR-TIMEZONE:US/Pacific
BEGIN:VEVENT
SUMMARY:Basic Backpacking Field Trip - Dosewallips River/Abandoned Nationa
 l Park Road
DTSTART;VALUE=DATE:20260516
DTEND;VALUE=DATE:20260517
DTSTAMP;VALUE=DATE-TIME:20260420T221117Z
UID:acb029e2507041a0bdd3fbf57b54b859
CATEGORIES:Backpacking
DESCRIPTION:Relaxed stroll up the old Dosewallips River Road with a backpa
 ck. Great opportunity to get out and test the gear in the early season.
LOCATION:Dosewallips River/Abandoned National Park Road
URL:https://www.mountaineers.org/locations-lodges/seattle-branch/committee
 s/seattle-hiking-backpacking/seattle-backpacking-committee/course-template
 s/basic-backpacking-seattle/activities/basic-backpacking-field-trip-dosewa
 llips-river-abandoned-national-park-road-1
END:VEVENT
END:VCALENDAR
