BEGIN:VCALENDAR
VERSION:2.0
PRODID:-//Plone.org//NONSGML plone.app.event//EN
X-WR-TIMEZONE:US/Pacific
BEGIN:VEVENT
SUMMARY:Backpacking Food Dehydration Field Trip - Big Four Ice Caves
DTSTART;VALUE=DATE:20260627
DTEND;VALUE=DATE:20260628
DTSTAMP;VALUE=DATE-TIME:20260420T221238Z
UID:754114fba3e64f949ae9fa568a42aa5c
CATEGORIES:Backpacking
DESCRIPTION:A day hike with backpacking supplies to practice successfully 
 cooking dehydrated food in the backcountry.
LOCATION:Big Four Ice Caves
URL:https://www.mountaineers.org/locations-lodges/seattle-branch/committee
 s/seattle-hiking-backpacking/seattle-backpacking-committee/course-template
 s/backpacking-food-dehydration-seattle/activities/backpacking-food-dehydra
 tion-field-trip-big-four-ice-caves-1
END:VEVENT
END:VCALENDAR
