BEGIN:VCALENDAR
VERSION:2.0
PRODID:-//Plone.org//NONSGML plone.app.event//EN
X-WR-TIMEZONE:US/Pacific
BEGIN:VEVENT
SUMMARY:WMCR Instructor Review - Intermediate Glacier Skills - Mountaineer
 s Seattle Program Center
DTSTART;VALUE=DATE:20241212
DTEND;VALUE=DATE:20241213
DTSTAMP;VALUE=DATE-TIME:20260425T095735Z
UID:3e2e9b31fcaf4c4180f7d6b48eca880a
CATEGORIES:Climbing
DESCRIPTION:Instructors or past graduates come together to review travelin
 g techniques (protecting your follower\, rope setup and management)\, self
  extraction and solo crevasse rescue systems
LOCATION:Mountaineers Seattle Program Center
URL:https://www.mountaineers.org/locations-lodges/seattle-branch/committee
 s/seattle-climbing-committee/seminars-clinics/wmcr-int-glacier-instructor-
 review-practice-session-2-mountaineers-seattle-program-center
END:VEVENT
END:VCALENDAR
