BEGIN:VCALENDAR
VERSION:2.0
PRODID:-//Plone.org//NONSGML plone.app.event//EN
X-WR-TIMEZONE:US/Pacific
BEGIN:VEVENT
SUMMARY:WMCR Instructor Review - Small Party Rescue Skills - Mountaineers 
 Seattle Program Center
DTSTART;VALUE=DATE:20241126
DTEND;VALUE=DATE:20241127
DTSTAMP;VALUE=DATE-TIME:20260425T113058Z
UID:ee3cf56a93fd42ada12aff447500b0ea
CATEGORIES:Climbing
DESCRIPTION:Instructors or past graduates come together to review small pa
 rty rescue systems incl. patient care\, make-shift litter\, rescue station
  management\, hauling and lowering systems
LOCATION:Mountaineers Seattle Program Center
URL:https://www.mountaineers.org/locations-lodges/seattle-branch/committee
 s/seattle-climbing-committee/seminars-clinics/wmcr-int-glacier-instructor-
 review-practice-session-1-mountaineers-seattle-program-center
END:VEVENT
END:VCALENDAR
