BEGIN:VCALENDAR
VERSION:2.0
PRODID:-//Plone.org//NONSGML plone.app.event//EN
X-WR-TIMEZONE:US/Pacific
BEGIN:VEVENT
SUMMARY:Trad Equivalency - Vantage (Frenchman Coulee)
DTSTART;VALUE=DATE:20250222
DTEND;VALUE=DATE:20250223
DTSTAMP;VALUE=DATE-TIME:20260425T130005Z
UID:b378d18732aa43c1b0ed9ccac28c43b6
CATEGORIES:Climbing
DESCRIPTION:Evaluation outing to receive trad equivalency. Skills covered 
 include placing gear\, gear spacing\, clean and lower\, gear anchors and f
 or certain candidates multi pitch transitions.
LOCATION:Vantage (Frenchman Coulee)
URL:https://www.mountaineers.org/locations-lodges/seattle-branch/committee
 s/seattle-climbing-committee/seminars-clinics/trad-equivalency-vantage-fre
 nchman-coulee-2
END:VEVENT
END:VCALENDAR
