BEGIN:VCALENDAR
VERSION:2.0
PRODID:-//Plone.org//NONSGML plone.app.event//EN
X-WR-TIMEZONE:US/Pacific
BEGIN:VEVENT
SUMMARY:Trad Equivalency - Tieton River: Royal Columns
DTSTART;VALUE=DATE:20250413
DTEND;VALUE=DATE:20250414
DTSTAMP;VALUE=DATE-TIME:20260421T081414Z
UID:d5141dd615ae47e4b4c1906b3c72a934
CATEGORIES:Climbing
DESCRIPTION:Evaluation outing to receive trad equivalency. Skills covered 
 include placing gear\, gear spacing\, clean and lower\, gear anchors and f
 or certain candidates multi pitch transitions.
LOCATION:Tieton River: Royal Columns
URL:https://www.mountaineers.org/locations-lodges/seattle-branch/committee
 s/seattle-climbing-committee/seminars-clinics/trad-equivalency-tieton-rive
 r-royal-columns
END:VEVENT
END:VCALENDAR
