BEGIN:VCALENDAR
VERSION:2.0
PRODID:-//Plone.org//NONSGML plone.app.event//EN
X-WR-TIMEZONE:US/Pacific
BEGIN:VEVENT
SUMMARY:Teaching and Leadership - Mountaineers Seattle Program Center
DTSTART;VALUE=DATE:20200111
DTEND;VALUE=DATE:20200112
DTSTAMP;VALUE=DATE-TIME:20260421T174522Z
UID:47264e60b7664d358ed2957175a32b7a
CATEGORIES:Outdoor Leadership
DESCRIPTION:Are you taking Seattle's intermediate climbing modules (single
  and multi pitch trad and glacier) and thinking about becoming a rope lead
 ? Make sure to sign up for this workshop for a primer on teaching and lead
 ership techniques.
LOCATION:Mountaineers Seattle Program Center
URL:https://www.mountaineers.org/locations-lodges/seattle-branch/committee
 s/seattle-climbing-committee/seminars-clinics/teaching-and-leadership-moun
 taineers-seattle-program-center-2
END:VEVENT
END:VCALENDAR
