BEGIN:VCALENDAR
VERSION:2.0
PRODID:-//Plone.org//NONSGML plone.app.event//EN
X-WR-TIMEZONE:US/Pacific
BEGIN:VEVENT
SUMMARY:Teaching and Leadership - Mountaineers Seattle Program Center
DTSTART;VALUE=DATE:20190529
DTEND;VALUE=DATE:20190530
DTSTAMP;VALUE=DATE-TIME:20260425T041831Z
UID:3a824e7e06ce47f0acd86d8b6580dd2d
CATEGORIES:Outdoor Leadership
DESCRIPTION:Skills review session for Intense Basic instructors only. This
  is an opportunity to go over the standards we will be teaching for the co
 urse.
LOCATION:Mountaineers Seattle Program Center
URL:https://www.mountaineers.org/locations-lodges/seattle-branch/committee
 s/seattle-climbing-committee/seminars-clinics/teaching-and-leadership-moun
 taineers-seattle-program-center-1
END:VEVENT
END:VCALENDAR
