BEGIN:VCALENDAR
VERSION:2.0
PRODID:-//Plone.org//NONSGML plone.app.event//EN
X-WR-TIMEZONE:US/Pacific
BEGIN:VEVENT
SUMMARY:Self-Rescue Refresher - Mountaineers Seattle Program Center
DTSTART;VALUE=DATE:20200514
DTEND;VALUE=DATE:20200515
DTSTAMP;VALUE=DATE-TIME:20260424T050553Z
UID:0e41d570e29148e68355c3285850209f
CATEGORIES:Climbing
DESCRIPTION:Come practice those self rescue skills you probably forgot
LOCATION:Mountaineers Seattle Program Center
URL:https://www.mountaineers.org/locations-lodges/seattle-branch/committee
 s/seattle-climbing-committee/seminars-clinics/self-rescue-refresher-mounta
 ineers-seattle-program-center-1
END:VEVENT
END:VCALENDAR
