BEGIN:VCALENDAR
VERSION:2.0
PRODID:-//Plone.org//NONSGML plone.app.event//EN
X-WR-TIMEZONE:US/Pacific
BEGIN:VEVENT
SUMMARY:WMCR Instructor Review - Intermediate Glacier Skills - Mountaineer
 s Seattle Program Center
DTSTART;VALUE=DATE:20200311
DTEND;VALUE=DATE:20200312
DTSTAMP;VALUE=DATE-TIME:20260424T063823Z
UID:c0feab9b3c28405a9f8f349e20f8cab6
CATEGORIES:Climbing
DESCRIPTION:Intermediate Glacier Travel Instructor review
LOCATION:Mountaineers Seattle Program Center
URL:https://www.mountaineers.org/locations-lodges/seattle-branch/committee
 s/seattle-climbing-committee/seminars-clinics/seattle-igt-instructor-revie
 w-mountaineers-seattle-program-center
END:VEVENT
END:VCALENDAR
