BEGIN:VCALENDAR
VERSION:2.0
PRODID:-//Plone.org//NONSGML plone.app.event//EN
X-WR-TIMEZONE:US/Pacific
BEGIN:VEVENT
SUMMARY:WMCR Instructor Review - Intermediate Glacier Skills - Mountaineer
 s Seattle Program Center
DTSTART;VALUE=DATE:20200324
DTEND;VALUE=DATE:20200325
DTSTAMP;VALUE=DATE-TIME:20260424T033811Z
UID:e1ceec3e2b3a426e982b30685b958b2e
CATEGORIES:Climbing
DESCRIPTION:Intermediate Glacier Travel Instructor review
LOCATION:Mountaineers Seattle Program Center
URL:https://www.mountaineers.org/locations-lodges/seattle-branch/committee
 s/seattle-climbing-committee/seminars-clinics/seattle-igt-instructor-revie
 w-mountaineers-seattle-program-center-2020-03-24
END:VEVENT
END:VCALENDAR
