BEGIN:VCALENDAR
VERSION:2.0
PRODID:-//Plone.org//NONSGML plone.app.event//EN
X-WR-TIMEZONE:US/Pacific
BEGIN:VEVENT
SUMMARY:WMCR Instructor Review - Intermediate Glacier Skills - Mountaineer
 s Seattle Program Center
DTSTART;VALUE=DATE:20200326
DTEND;VALUE=DATE:20200327
DTSTAMP;VALUE=DATE-TIME:20260421T062415Z
UID:ac1051e379de4e04a38f25abd745115f
CATEGORIES:Climbing
DESCRIPTION:Intermediate Glacier Travel Instructor review
LOCATION:Mountaineers Seattle Program Center
URL:https://www.mountaineers.org/locations-lodges/seattle-branch/committee
 s/seattle-climbing-committee/seminars-clinics/seattle-igt-instructor-revie
 w-mountaineers-seattle-program-center-2020-03-24-2020-03-26
END:VEVENT
END:VCALENDAR
