BEGIN:VCALENDAR
VERSION:2.0
PRODID:-//Plone.org//NONSGML plone.app.event//EN
X-WR-TIMEZONE:US/Pacific
BEGIN:VEVENT
SUMMARY:WMCR Instructor Review - Intermediate Glacier Skills - Mountaineer
 s Seattle Program Center
DTSTART;VALUE=DATE:20200227
DTEND;VALUE=DATE:20200228
DTSTAMP;VALUE=DATE-TIME:20260424T013520Z
UID:5b6e0fb1ff8f452aa77c4cadf3438789
CATEGORIES:Climbing
DESCRIPTION:Intermediate Glacier Travel Instructor review
LOCATION:Mountaineers Seattle Program Center
URL:https://www.mountaineers.org/locations-lodges/seattle-branch/committee
 s/seattle-climbing-committee/seminars-clinics/seattle-igt-instructor-revie
 w-mountaineers-seattle-program-center-2020-02-27
END:VEVENT
END:VCALENDAR
