BEGIN:VCALENDAR
VERSION:2.0
PRODID:-//Plone.org//NONSGML plone.app.event//EN
X-WR-TIMEZONE:US/Pacific
BEGIN:VEVENT
SUMMARY:Seattle Basic curriculum review for Mentors and Instructors - Vert
 ical World\, Redmond
DTSTART;VALUE=DATE:20200114
DTEND;VALUE=DATE:20200115
DTSTAMP;VALUE=DATE-TIME:20260421T160750Z
UID:146fdb426f9143f4aeb57199cebb5387
CATEGORIES:Climbing
DESCRIPTION:Instructor / Mentor Calibration and Review for the Foothills S
 IGs.
LOCATION:Vertical World\, Redmond
URL:https://www.mountaineers.org/locations-lodges/seattle-branch/committee
 s/seattle-climbing-committee/seminars-clinics/seattle-basic-curriculum-rev
 iew-for-mentors-and-instructors-vertical-world-redmond
END:VEVENT
END:VCALENDAR
