BEGIN:VCALENDAR
VERSION:2.0
PRODID:-//Plone.org//NONSGML plone.app.event//EN
X-WR-TIMEZONE:US/Pacific
BEGIN:VEVENT
SUMMARY:Seattle Basic curriculum review for Mentors and Instructors - Moun
 taineers Seattle Program Center
DTSTART;VALUE=DATE:20191208
DTEND;VALUE=DATE:20191209
DTSTAMP;VALUE=DATE-TIME:20260424T200454Z
UID:4ee92d5e83db4f6fae19b3e38878c65c
CATEGORIES:Climbing
DESCRIPTION:Curriculum review for Basic SIG leaders and anyone who wants t
 o help with a Basic field trip. 2-5pm\, right before the Basic Meet and Gr
 eet.
LOCATION:Mountaineers Seattle Program Center
URL:https://www.mountaineers.org/locations-lodges/seattle-branch/committee
 s/seattle-climbing-committee/seminars-clinics/seattle-basic-curriculum-rev
 iew-for-mentors-and-instructors-mountaineers-seattle-program-center-4
END:VEVENT
END:VCALENDAR
