BEGIN:VCALENDAR
VERSION:2.0
PRODID:-//Plone.org//NONSGML plone.app.event//EN
X-WR-TIMEZONE:US/Pacific
BEGIN:VEVENT
SUMMARY:Seattle Basic curriculum review for Mentors and Instructors - Moun
 taineers Seattle Program Center
DTSTART;VALUE=DATE:20200108
DTEND;VALUE=DATE:20200109
DTSTAMP;VALUE=DATE-TIME:20260421T210906Z
UID:c7af16294ee344d1af1632ec79498b73
CATEGORIES:Climbing
DESCRIPTION:Curriculum review for Basic SIG leaders and anyone who wants t
 o help with a Basic field trip. 6-9pm.
LOCATION:Mountaineers Seattle Program Center
URL:https://www.mountaineers.org/locations-lodges/seattle-branch/committee
 s/seattle-climbing-committee/seminars-clinics/seattle-basic-curriculum-rev
 iew-for-mentors-and-instructors-mountaineers-seattle-program-center-4-2020
 -01-08
END:VEVENT
END:VCALENDAR
