BEGIN:VCALENDAR
VERSION:2.0
PRODID:-//Plone.org//NONSGML plone.app.event//EN
X-WR-TIMEZONE:US/Pacific
BEGIN:VEVENT
SUMMARY:Seattle Basic curriculum review for Mentors and Instructors - Moun
 taineers Seattle Program Center
DTSTART;VALUE=DATE:20200121
DTEND;VALUE=DATE:20200122
DTSTAMP;VALUE=DATE-TIME:20260423T013340Z
UID:30bc2d506d564017a1105f8a4e6720df
CATEGORIES:Climbing
DESCRIPTION:Curriculum review for Basic SIG leaders and anyone who wants t
 o help with a Basic field trip. 6:30-9pm.
LOCATION:Mountaineers Seattle Program Center
URL:https://www.mountaineers.org/locations-lodges/seattle-branch/committee
 s/seattle-climbing-committee/seminars-clinics/seattle-basic-curriculum-rev
 iew-for-mentors-and-instructors-mountaineers-seattle-program-center-4-2020
 -01-08-2020-01-21
END:VEVENT
END:VCALENDAR
