BEGIN:VCALENDAR
VERSION:2.0
PRODID:-//Plone.org//NONSGML plone.app.event//EN
X-WR-TIMEZONE:US/Pacific
BEGIN:VEVENT
SUMMARY:Seattle Basic Climbing Refresher Clinic - Top Rope Anchor Building
  - Mountaineers Seattle Program Center
DTSTART;VALUE=DATE:20191106
DTEND;VALUE=DATE:20191107
DTSTAMP;VALUE=DATE-TIME:20260424T082422Z
UID:4f0e3910eeb04c39b9a021d169e262c3
CATEGORIES:Climbing
DESCRIPTION:Learn how to set up top-rope anchors on bolts
LOCATION:Mountaineers Seattle Program Center
URL:https://www.mountaineers.org/locations-lodges/seattle-branch/committee
 s/seattle-climbing-committee/seminars-clinics/seattle-basic-climbing-refre
 sher-clinic-top-rope-anchor-building-mountaineers-seattle-program-center
END:VEVENT
END:VCALENDAR
