BEGIN:VCALENDAR
VERSION:2.0
PRODID:-//Plone.org//NONSGML plone.app.event//EN
X-WR-TIMEZONE:US/Pacific
BEGIN:VEVENT
SUMMARY:Seattle Basic Climbing Refresher Clinic - Snow & Glacier Travel Sk
 ills - Snoqualmie Summit Central
DTSTART;VALUE=DATE:20190428
DTEND;VALUE=DATE:20190429
DTSTAMP;VALUE=DATE-TIME:20260425T145726Z
UID:f963f4a4409347a68cf499cc78b4e14e
CATEGORIES:Climbing
DESCRIPTION:Practice Crevasse Rescue on snow\, followed by an hour or so o
 f ice axe practice
LOCATION:Snoqualmie Summit Central
URL:https://www.mountaineers.org/locations-lodges/seattle-branch/committee
 s/seattle-climbing-committee/seminars-clinics/seattle-basic-climbing-refre
 sher-clinic-snow-glacier-travel-skills-snoqualmie-summit-central
END:VEVENT
END:VCALENDAR
