BEGIN:VCALENDAR
VERSION:2.0
PRODID:-//Plone.org//NONSGML plone.app.event//EN
X-WR-TIMEZONE:US/Pacific
BEGIN:VEVENT
SUMMARY:Basic Climbing Refresher / Practice Session - Crevasse Rescue - Mo
 untaineers Seattle Program Center
DTSTART;VALUE=DATE:20240506
DTEND;VALUE=DATE:20240507
DTSTAMP;VALUE=DATE-TIME:20260421T014738Z
UID:37b89d4740974cb78e5f1b580fc14869
CATEGORIES:Climbing
DESCRIPTION:A free clinic. Basic Climbing Refresher Clinics offer Basic Gr
 aduates\, Glacier Travel graduates and second year Basic Climbing students
  the opportunity to review and practice rock and snow skills by participat
 ing in a series of clinics. Non-members and non-Basic Climbing grads are a
 lso welcome if they have the appropriate climbing skills.
LOCATION:Mountaineers Seattle Program Center
URL:https://www.mountaineers.org/locations-lodges/seattle-branch/committee
 s/seattle-climbing-committee/seminars-clinics/seattle-basic-climbing-refre
 sher-clinic-crevasse-rescue-mountaineers-seattle-program-center-5
END:VEVENT
END:VCALENDAR
