BEGIN:VCALENDAR
VERSION:2.0
PRODID:-//Plone.org//NONSGML plone.app.event//EN
X-WR-TIMEZONE:US/Pacific
BEGIN:VEVENT
SUMMARY:Basic Climbing Refresher / Practice Session - Crevasse Rescue - Mo
 untaineers Seattle Program Center
DTSTART;VALUE=DATE:20191009
DTEND;VALUE=DATE:20191010
DTSTAMP;VALUE=DATE-TIME:20260424T163529Z
UID:99f0ac8d0e114787a2f909c4abf3187e
CATEGORIES:Climbing
DESCRIPTION:Basic Climbing Refresher Clinic covering Crevasse Rescue
LOCATION:Mountaineers Seattle Program Center
URL:https://www.mountaineers.org/locations-lodges/seattle-branch/committee
 s/seattle-climbing-committee/seminars-clinics/seattle-basic-climbing-refre
 sher-clinic-crevasse-rescue-mountaineers-seattle-program-center-2
END:VEVENT
END:VCALENDAR
