BEGIN:VCALENDAR
VERSION:2.0
PRODID:-//Plone.org//NONSGML plone.app.event//EN
X-WR-TIMEZONE:US/Pacific
BEGIN:VEVENT
SUMMARY:Basic Climbing Refresher / Practice Session - Crevasse Rescue - Mo
 unt Rainier Lower Nisqually Glacier
DTSTART;VALUE=DATE:20190803
DTEND;VALUE=DATE:20190804
DTSTAMP;VALUE=DATE-TIME:20260425T213153Z
UID:1b813c600c2b4a75a301145d72e0f851
CATEGORIES:Climbing
DESCRIPTION:SIG Instructors activity for Vineeth & Manisha's SIG
LOCATION:Mount Rainier Lower Nisqually Glacier
URL:https://www.mountaineers.org/locations-lodges/seattle-branch/committee
 s/seattle-climbing-committee/seminars-clinics/seattle-basic-climbing-refre
 sher-clinic-crevasse-rescue-mount-rainier-lower-nisqually-glacier
END:VEVENT
END:VCALENDAR
