BEGIN:VCALENDAR
VERSION:2.0
PRODID:-//Plone.org//NONSGML plone.app.event//EN
X-WR-TIMEZONE:US/Pacific
BEGIN:VEVENT
SUMMARY:Basic Climbing Refresher / Practice Session - Alpine Rock Climbing
  Skills - Mountaineers Seattle Program Center
DTSTART;VALUE=DATE:20190930
DTEND;VALUE=DATE:20191001
DTSTAMP;VALUE=DATE-TIME:20260424T182041Z
UID:6e7f4aba98df42978df4d9617d83e5f6
CATEGORIES:Climbing
DESCRIPTION:This Basic Climbing Refresher clinic reviews current belay tie
 -off and rappel techniques used in the 2019 Seattle Basic Climbing course.
LOCATION:Mountaineers Seattle Program Center
URL:https://www.mountaineers.org/locations-lodges/seattle-branch/committee
 s/seattle-climbing-committee/seminars-clinics/seattle-basic-climbing-refre
 sher-clinic-alpine-rock-climbing-skills-mountaineers-seattle-program-cente
 r
END:VEVENT
END:VCALENDAR
