BEGIN:VCALENDAR
VERSION:2.0
PRODID:-//Plone.org//NONSGML plone.app.event//EN
X-WR-TIMEZONE:US/Pacific
BEGIN:VEVENT
SUMMARY:Basic Climbing Refresher / Practice Session - Alpine Rock Climbing
  Skills - Mountaineers Seattle Program Center
DTSTART;VALUE=DATE:20250328
DTEND;VALUE=DATE:20250329
DTSTAMP;VALUE=DATE-TIME:20260421T061853Z
UID:8f20c40107614fcf8befac77e6e4d205
CATEGORIES:Climbing
DESCRIPTION:Webbing replacement in Goodman ABC
LOCATION:Mountaineers Seattle Program Center
URL:https://www.mountaineers.org/locations-lodges/seattle-branch/committee
 s/seattle-climbing-committee/seminars-clinics/seattle-basic-climbing-refre
 sher-clinic-alpine-rock-climbing-skills-mountaineers-seattle-program-cente
 r-4
END:VEVENT
END:VCALENDAR
