BEGIN:VCALENDAR
VERSION:2.0
PRODID:-//Plone.org//NONSGML plone.app.event//EN
X-WR-TIMEZONE:US/Pacific
BEGIN:VEVENT
SUMMARY:Seattle Basic Alpine Climbing Skills night - Mountaineers Seattle 
 Program Center
DTSTART;VALUE=DATE:20250407
DTEND;VALUE=DATE:20250408
DTSTAMP;VALUE=DATE-TIME:20260424T044717Z
UID:10a34ce284644b328beb829542cec340
CATEGORIES:Climbing
DESCRIPTION:Skills practice for SIGs
LOCATION:Mountaineers Seattle Program Center
URL:https://www.mountaineers.org/locations-lodges/seattle-branch/committee
 s/seattle-climbing-committee/seminars-clinics/seattle-basic-alpine-climbin
 g-skills-night-mountaineers-seattle-program-center-2
END:VEVENT
END:VCALENDAR
