BEGIN:VCALENDAR
VERSION:2.0
PRODID:-//Plone.org//NONSGML plone.app.event//EN
X-WR-TIMEZONE:US/Pacific
BEGIN:VEVENT
SUMMARY:Seattle Basic Alpine Climbing Skills night - Mount Baker/Easton Gl
 acier
DTSTART;VALUE=DATE:20250524
DTEND;VALUE=DATE:20250525
DTSTAMP;VALUE=DATE-TIME:20260421T095121Z
UID:2b07ebf1e6334fa3a75e63bdee40392b
CATEGORIES:Climbing
DESCRIPTION:Skills practice for SIGs
LOCATION:Mount Baker/Easton Glacier
URL:https://www.mountaineers.org/locations-lodges/seattle-branch/committee
 s/seattle-climbing-committee/seminars-clinics/seattle-basic-alpine-climbin
 g-skills-night-mount-baker-easton-glacier
END:VEVENT
END:VCALENDAR
