BEGIN:VCALENDAR
VERSION:2.0
PRODID:-//Plone.org//NONSGML plone.app.event//EN
X-WR-TIMEZONE:US/Pacific
BEGIN:VEVENT
SUMMARY:Informational Seminar for Intermediate Students - Mountaineers Sea
 ttle Program Center
DTSTART;VALUE=DATE:20241028
DTEND;VALUE=DATE:20241029
DTSTAMP;VALUE=DATE-TIME:20260425T082511Z
UID:6a05dad2b48a4945974c1b7a947332df
CATEGORIES:Climbing
DESCRIPTION:Learn about the 2025 Intermediate Alpine Climbing Course and i
 ts six different modules. This will be a hybrid event (in person and on Zo
 om).
LOCATION:Mountaineers Seattle Program Center
URL:https://www.mountaineers.org/locations-lodges/seattle-branch/committee
 s/seattle-climbing-committee/seminars-clinics/informational-seminar-for-in
 termediate-students-mountaineers-seattle-program-center-1
END:VEVENT
END:VCALENDAR
