BEGIN:VCALENDAR
VERSION:2.0
PRODID:-//Plone.org//NONSGML plone.app.event//EN
X-WR-TIMEZONE:US/Pacific
BEGIN:VEVENT
SUMMARY:Info Session for Prospective Climb Leaders - Mountaineers Seattle 
 Program Center
DTSTART;VALUE=DATE:20240729
DTEND;VALUE=DATE:20240730
DTSTAMP;VALUE=DATE-TIME:20260425T050743Z
UID:65bd5184e04f4c1388aa410a7d0903b2
CATEGORIES:Climbing
DESCRIPTION:A chance to catch up with other climb leaders and learn about 
 what it takes to be a climb leader for the Mountaineers. Registration is n
 ot closed\, we are collecting RSVPs on the event page.
LOCATION:Mountaineers Seattle Program Center
URL:https://www.mountaineers.org/locations-lodges/seattle-branch/committee
 s/seattle-climbing-committee/seminars-clinics/info-session-for-prospective
 -climb-leaders-mountaineers-seattle-program-center
END:VEVENT
END:VCALENDAR
